BEGIN:VCALENDAR
VERSION:2.0
PRODID:-//www.etbl.ca//iCal Event Maker
X-WR-TIMEZONE:America/New_York
BEGIN:VEVENT
DTSTAMP:20260422T220000Z
UID:232
DTSTART;TZID=America/New_York:20260422T220000
DTEND;TZID=America/New_York:20260422T230000
SUMMARY:MOVEMENT vs NO FLY ZONE 
DESCRIPTION:
LOCATION:Six Park East COURT 1
END:VEVENT
BEGIN:VEVENT
DTSTAMP:20260429T220000Z
UID:234
DTSTART;TZID=America/New_York:20260429T220000
DTEND;TZID=America/New_York:20260429T230000
SUMMARY:MOVEMENT vs WOLVES
DESCRIPTION:
LOCATION:Six Park East COURT 1
END:VEVENT
END:VCALENDAR
