BEGIN:VCALENDAR
VERSION:2.0
PRODID:-//www.etbl.ca//iCal Event Maker
X-WR-TIMEZONE:America/New_York
BEGIN:VEVENT
DTSTAMP:20260422T210000Z
UID:231
DTSTART;TZID=America/New_York:20260422T210000
DTEND;TZID=America/New_York:20260422T220000
SUMMARY:NO LONG TALK  vs WAVE RUNNERS 
DESCRIPTION:
LOCATION:Six Park East COURT 1
END:VEVENT
BEGIN:VEVENT
DTSTAMP:20260429T210000Z
UID:233
DTSTART;TZID=America/New_York:20260429T210000
DTEND;TZID=America/New_York:20260429T220000
SUMMARY:NO LONG TALK  vs SWISH KEBABS
DESCRIPTION:
LOCATION:Six Park East COURT 1
END:VEVENT
END:VCALENDAR
