BEGIN:VCALENDAR
VERSION:2.0
PRODID:-//www.etbl.ca//iCal Event Maker
X-WR-TIMEZONE:America/New_York
BEGIN:VEVENT
DTSTAMP:20260422T200000Z
UID:230
DTSTART;TZID=America/New_York:20260422T200000
DTEND;TZID=America/New_York:20260422T210000
SUMMARY:SUPREME vs WOLVES
DESCRIPTION:
LOCATION:Six Park East COURT 1
END:VEVENT
BEGIN:VEVENT
DTSTAMP:20260429T220000Z
UID:235
DTSTART;TZID=America/New_York:20260429T220000
DTEND;TZID=America/New_York:20260429T230000
SUMMARY:NO FLY ZONE  vs SUPREME
DESCRIPTION:
LOCATION:Six Park East COURT 2
END:VEVENT
END:VCALENDAR
